BEGIN:VCALENDAR
VERSION:2.0
PRODID:-//Living La Vida Lakeside - ECPv6.15.20//NONSGML v1.0//EN
CALSCALE:GREGORIAN
METHOD:PUBLISH
X-WR-CALNAME:Living La Vida Lakeside
X-ORIGINAL-URL:https://livinglavidalakeside.com
X-WR-CALDESC:Events for Living La Vida Lakeside
REFRESH-INTERVAL;VALUE=DURATION:PT1H
X-Robots-Tag:noindex
X-PUBLISHED-TTL:PT1H
BEGIN:VTIMEZONE
TZID:America/Mexico_City
BEGIN:STANDARD
TZOFFSETFROM:-0600
TZOFFSETTO:-0600
TZNAME:CST
DTSTART:20240101T000000
END:STANDARD
END:VTIMEZONE
BEGIN:VTIMEZONE
TZID:UTC
BEGIN:STANDARD
TZOFFSETFROM:+0000
TZOFFSETTO:+0000
TZNAME:UTC
DTSTART:20240101T000000
END:STANDARD
END:VTIMEZONE
BEGIN:VTIMEZONE
TZID:America/Chicago
BEGIN:DAYLIGHT
TZOFFSETFROM:-0600
TZOFFSETTO:-0500
TZNAME:CDT
DTSTART:20240310T080000
END:DAYLIGHT
BEGIN:STANDARD
TZOFFSETFROM:-0500
TZOFFSETTO:-0600
TZNAME:CST
DTSTART:20241103T070000
END:STANDARD
BEGIN:DAYLIGHT
TZOFFSETFROM:-0600
TZOFFSETTO:-0500
TZNAME:CDT
DTSTART:20250309T080000
END:DAYLIGHT
BEGIN:STANDARD
TZOFFSETFROM:-0500
TZOFFSETTO:-0600
TZNAME:CST
DTSTART:20251102T070000
END:STANDARD
BEGIN:DAYLIGHT
TZOFFSETFROM:-0600
TZOFFSETTO:-0500
TZNAME:CDT
DTSTART:20260308T080000
END:DAYLIGHT
BEGIN:STANDARD
TZOFFSETFROM:-0500
TZOFFSETTO:-0600
TZNAME:CST
DTSTART:20261101T070000
END:STANDARD
END:VTIMEZONE
BEGIN:VEVENT
DTSTART;TZID=America/Mexico_City:20260219T173000
DTEND;TZID=America/Mexico_City:20260219T200000
DTSTAMP:20260420T215840
CREATED:20260130T143836Z
LAST-MODIFIED:20260130T143836Z
UID:394-1771522200-1771531200@livinglavidalakeside.com
SUMMARY:"Jeopardy" trivia at Lucky Bar in Ajijic
DESCRIPTION:The February theme for trivia\, hosted by the Truly Remarkable Life team is more a format theme – Jeopardy! \nThis was very popular the last time it was held\, and I’m looking forward to it.  So plan to join me there\, bring your thinking caps and we’ll have a fun night of it. \n\nFree to play\nTeams up to 5 eligible for prizes\n$500 MX first place\, $250 MX second place\nRecommend to arrive a bit early to ensure a table\nOutside food permitted\, but no outside drinks please
URL:https://livinglavidalakeside.com/event/jeopardy-trivia-at-lucky-bar-in-ajijic/
LOCATION:Lucky Bar\, Carretera Pte. 25E\, Centro\, Ajijic\, Jalisco\, 45920
CATEGORIES:LLVL Attending
END:VEVENT
BEGIN:VEVENT
DTSTART;TZID=America/Mexico_City:20260207T140000
DTEND;TZID=America/Mexico_City:20260207T180000
DTSTAMP:20260420T215840
CREATED:20251009T015156Z
LAST-MODIFIED:20260126T153912Z
UID:143-1770472800-1770487200@livinglavidalakeside.com
SUMMARY:Free Main Mextranjero Meet & Greet! - 2-6pm Lake Chapala Society
DESCRIPTION:Join me and a number of other Mexican focused YouTubers for a local meet and greet.  This will be a fantastic opportunity to stop by and say hello.  I’d love to hear from you\, what you like about the channel and your suggestions for new content.  See you there!
URL:https://livinglavidalakeside.com/event/fan-meet-and-greet/
LOCATION:Lake Chapala Society\, 16 de Septiembre 16-a\, ajijic\, Jalisco\, 45920\, Mexico
CATEGORIES:LLVL Attending
END:VEVENT
BEGIN:VEVENT
DTSTART;TZID=America/Mexico_City:20260206T150000
DTEND;TZID=America/Mexico_City:20260206T170000
DTSTAMP:20260420T215840
CREATED:20260126T153537Z
LAST-MODIFIED:20260126T153952Z
UID:372-1770390000-1770397200@livinglavidalakeside.com
SUMMARY:Mextranjero Early Meet & Greet - El Gato Feo Cafe
DESCRIPTION:Want an afternoon coffee and to mingle with some of your favorite YouTube creators?  This event is for you! \nI will try to attend\, but may not make it.  So go meet all the other fantastic YouTube channels and I’ll see you at the main Meet & Greet on Saturday Feb 7th!
URL:https://livinglavidalakeside.com/event/mextranjero-early-meet-greet/
LOCATION:El Gato Feo\, 16 de Septiembre 18\, Ajijic\, Jalisco\, 45920\, Mexico
END:VEVENT
BEGIN:VEVENT
DTSTART;TZID=America/Mexico_City:20260205T190000
DTEND;TZID=America/Mexico_City:20260205T220000
DTSTAMP:20260420T215840
CREATED:20260126T152802Z
LAST-MODIFIED:20260126T154024Z
UID:369-1770318000-1770328800@livinglavidalakeside.com
SUMMARY:Early Mextranjero Meet & Greet - Lucky Bar
DESCRIPTION:Can’t wait to meet your favorite channels and hang out with them?  I’ll be there.  I hope you will be too! \n 
URL:https://livinglavidalakeside.com/event/free-early-mextranjero-meet-greet/
LOCATION:Lucky Bar\, Carretera Pte. 25E\, Centro\, Ajijic\, Jalisco\, 45920
CATEGORIES:LLVL Attending
END:VEVENT
BEGIN:VEVENT
DTSTART;TZID=America/Mexico_City:20260115T173000
DTEND;TZID=America/Mexico_City:20260115T200000
DTSTAMP:20260420T215840
CREATED:20251229T135720Z
LAST-MODIFIED:20251229T135855Z
UID:339-1768498200-1768507200@livinglavidalakeside.com
SUMMARY:"Themed" trivia at Lucky Bar
DESCRIPTION:Join the Truly Remarkable Life team for another monthly themed trivia event.  It’s a five or six round trivia with a break in the middle.  Free to play with second chance “mulligans” $100 pesos for a pack of 5.  Cash prices of $500 pesos for 1st and $250 pesos for second.
URL:https://livinglavidalakeside.com/event/themed-trivia-at-lucky-bar/
LOCATION:Lucky Bar\, Carretera Pte. 25E\, Centro\, Ajijic\, Jalisco\, 45920
CATEGORIES:LLVL Attending
END:VEVENT
BEGIN:VEVENT
DTSTART;TZID=UTC:20251220T160000
DTEND;TZID=UTC:20251220T200000
DTSTAMP:20260420T215840
CREATED:20251130T124605Z
LAST-MODIFIED:20251130T124605Z
UID:299-1766246400-1766260800@livinglavidalakeside.com
SUMMARY:Music Bingo Fundraiser (Firefighters/Bomberos)
DESCRIPTION:If you’re intrigued about Music Bingo like I am\, consider joining me at this fundraiser event for the Chapala Bomberos (Firefighters). \nIncludes fried chicken dinner from Tony’s and 3 music bingo rounds. \nProceeds to be used to help the local fire department purchase equipment.
URL:https://livinglavidalakeside.com/event/music-bingo-fundraiser-firefighters-bomberos/
LOCATION:Johnny’s Lounge\, González Gallo 86\, San Antonio Tlayacapan\, Jalisco\, 45915\, Mexico
CATEGORIES:Fundraiser,LLVL Attending
END:VEVENT
BEGIN:VEVENT
DTSTART;TZID=America/Mexico_City:20251213T090000
DTEND;TZID=America/Mexico_City:20251213T120000
DTSTAMP:20260420T215840
CREATED:20251204T021521Z
LAST-MODIFIED:20251204T021521Z
UID:305-1765616400-1765627200@livinglavidalakeside.com
SUMMARY:Ajijic three-hour walking tour
DESCRIPTION:I’m going to go on a history\, art and culture walking tour of Ajijic on Saturday\, December 13th to record it for an upcoming video segment.  Knowing some of you might be interested\, I was able to make a special arrangement for additional slots to be available at a discounted rate of $700 pesos per person\, which is a $100/pp discount!  So join me and then we can talk on camera after the walk to see what you thought. \nThis offer is only for subscribers to my newsletter\, but don’t fret if you’re not already subscribed.  First- sign up for the tour here:  https://mexicoforliving.com/ajijic-walking-tour/ and then send me a contact form from www.LivingLaVidaLakeside.com and include the email address that you used to sign up for the tour.  I’ll add you to the newsletter\, and you’ll get the $700 peso price for everyone in your group!  Payment is via cash Saturday morning before the tour. \nThe tour has a max of 8 people\, and I’m already using two of the slots\, so don’t wait or it’ll sell out!  Sign-up\, send me a note\, grab your walking shoes and I’ll see you Saturday December 13th!
URL:https://livinglavidalakeside.com/event/ajijic-three-hour-walking-tour/
LOCATION:El Gato Feo\, 16 de Septiembre 18\, Ajijic\, Jalisco\, 45920\, Mexico
CATEGORIES:LLVL Attending
END:VEVENT
BEGIN:VEVENT
DTSTART;TZID=America/Mexico_City:20251211T173000
DTEND;TZID=America/Mexico_City:20251211T193000
DTSTAMP:20260420T215840
CREATED:20251108T030459Z
LAST-MODIFIED:20251113T144931Z
UID:273-1765474200-1765481400@livinglavidalakeside.com
SUMMARY:"Holidays" trivia at Lucky Bar Ajijic
DESCRIPTION:KJ from the Truly Remarkable Life team and Michael will host a holiday themed trivia. \nTables of up to 5 players.  1st place is $500 pesos\, 2nd place $250 pesos. \nThe event is 5 or 6 rounds\, with a variety of styles that can very round to round.  Intermission half way through. \nLucky bar doesn’t serve food.  You can bring outside food\, but no outside beverages.
URL:https://livinglavidalakeside.com/event/holidays-trivia-at-lucky-bar-ajijic/
LOCATION:Lucky Bar\, Carretera Pte. 25E\, Centro\, Ajijic\, Jalisco\, 45920
CATEGORIES:LLVL Attending
END:VEVENT
BEGIN:VEVENT
DTSTART;TZID=America/Mexico_City:20251126T180000
DTEND;TZID=America/Mexico_City:20251126T200000
DTSTAMP:20260420T215840
CREATED:20251108T014454Z
LAST-MODIFIED:20251113T144815Z
UID:262-1764180000-1764187200@livinglavidalakeside.com
SUMMARY:BrainBenders Trivia - The Cocktail Bar Ajijic
DESCRIPTION:Evening of trivia with no cover charge \n1st place $200 off tab \n2nd place $100 off tab \nTeams up to 6 players \nReservations recommended as tables are limited
URL:https://livinglavidalakeside.com/event/brainbenders-trivia-the-cocktail-bar-ajijic/
LOCATION:The Cocktail Bar\, Constitución 32\, Ajijic\, Jalisco\, 4592
CATEGORIES:LLVL Attending
END:VEVENT
BEGIN:VEVENT
DTSTART;TZID=America/Chicago:20251113T170000
DTEND;TZID=America/Chicago:20251113T193000
DTSTAMP:20260420T215840
CREATED:20251006T164117Z
LAST-MODIFIED:20251017T174406Z
UID:93-1763053200-1763062200@livinglavidalakeside.com
SUMMARY:LCS Trivia fundraiser sponsored by The Rainbow Alliance
DESCRIPTION:Doors open at 4pm with food and beverage for sale.  Must be part of a table of 8 with a ticket for the event.  The cost is for the entire table of 8 and it’s only sold in tables. \nhttps://www.facebook.com/photo?fbid=10241173599343644 \nThis event is a fundraiser sponsored by The Rainbow Alliance to support The Lake Chapala Society.
URL:https://livinglavidalakeside.com/event/lcs-trivia-fundraiser/
LOCATION:Lake Chapala Society\, 16 de Septiembre 16-a\, ajijic\, Jalisco\, 45920\, Mexico
CATEGORIES:Fundraiser,LLVL Attending
END:VEVENT
BEGIN:VEVENT
DTSTART;TZID=America/Mexico_City:20251112T170000
DTEND;TZID=America/Mexico_City:20251112T190000
DTSTAMP:20260420T215840
CREATED:20251108T013656Z
LAST-MODIFIED:20251108T013813Z
UID:258-1762966800-1762974000@livinglavidalakeside.com
SUMMARY:Trivia - Iron Horse in Riberas
DESCRIPTION:Multiple-choice trivia \nNo cover charge \n1st place $100 off bill \n2nd place $50 off bill
URL:https://livinglavidalakeside.com/event/trivia-iron-horse-in-riberas/
LOCATION:Iron Horse\, Hidalgo 78\, Riberas del Pilar\, Jalisco\, 45906\, Mexico
CATEGORIES:LLVL Attending
END:VEVENT
END:VCALENDAR