BEGIN:VCALENDAR
VERSION:2.0
PRODID:-//Living La Vida Lakeside - ECPv6.15.20//NONSGML v1.0//EN
CALSCALE:GREGORIAN
METHOD:PUBLISH
X-WR-CALNAME:Living La Vida Lakeside
X-ORIGINAL-URL:https://livinglavidalakeside.com
X-WR-CALDESC:Events for Living La Vida Lakeside
REFRESH-INTERVAL;VALUE=DURATION:PT1H
X-Robots-Tag:noindex
X-PUBLISHED-TTL:PT1H
BEGIN:VTIMEZONE
TZID:America/Mexico_City
BEGIN:STANDARD
TZOFFSETFROM:-0600
TZOFFSETTO:-0600
TZNAME:CST
DTSTART:20250101T000000
END:STANDARD
END:VTIMEZONE
BEGIN:VEVENT
DTSTART;TZID=America/Mexico_City:20260319T160000
DTEND;TZID=America/Mexico_City:20260319T170000
DTSTAMP:20260420T185435
CREATED:20260318T220848Z
LAST-MODIFIED:20260318T221144Z
UID:416-1773936000-1773939600@livinglavidalakeside.com
SUMMARY:LLVL on "Mexico Relocation Guide" livestream
DESCRIPTION:I’ll be joining Mariana from the Mexico Relocation Guide to discuss my adventures moving Lakeside including the financial and social aspects along with the logistics.  Join for the real-time Q&A or catch the replay later.
URL:https://livinglavidalakeside.com/event/llvl-on-mexico-relocation-guide-livestream/
LOCATION:YouTube
CATEGORIES:LLVL Attending
END:VEVENT
BEGIN:VEVENT
DTSTART;TZID=America/Mexico_City:20260319T173000
DTEND;TZID=America/Mexico_City:20260319T193000
DTSTAMP:20260420T185435
CREATED:20260318T220346Z
LAST-MODIFIED:20260318T222348Z
UID:413-1773941400-1773948600@livinglavidalakeside.com
SUMMARY:"Oscars" themed trivia
DESCRIPTION:It’s time again for that monthly trivia at Lucky Bar hosted by KJ from Truly Remarkable Life.  This month it’s Oscars themed so get ready for the red carpet!
URL:https://livinglavidalakeside.com/event/oscars-themed-trivia/
LOCATION:Lucky Bar\, Carretera Pte. 25E\, Centro\, Ajijic\, Jalisco\, 45920
CATEGORIES:LLVL Attending
END:VEVENT
END:VCALENDAR